BEGIN:VCALENDAR
VERSION:2.0
PRODID:-//Tres Rios Service Academy - ECPv6.15.17.1//NONSGML v1.0//EN
CALSCALE:GREGORIAN
METHOD:PUBLISH
X-ORIGINAL-URL:https://tres.littletonaz.org
X-WR-CALDESC:Events for Tres Rios Service Academy
REFRESH-INTERVAL;VALUE=DURATION:PT1H
X-Robots-Tag:noindex
X-PUBLISHED-TTL:PT1H
BEGIN:VTIMEZONE
TZID:America/Phoenix
BEGIN:STANDARD
TZOFFSETFROM:-0700
TZOFFSETTO:-0700
TZNAME:MST
DTSTART:20220101T000000
END:STANDARD
END:VTIMEZONE
BEGIN:VEVENT
DTSTART;VALUE=DATE:20230915
DTEND;VALUE=DATE:20231001
DTSTAMP:20260419T215054
CREATED:20230920T002501Z
LAST-MODIFIED:20230920T002501Z
UID:10000093-1694736000-1696118399@tres.littletonaz.org
SUMMARY:Hispanic Heritage
DESCRIPTION:
URL:https://tres.littletonaz.org/calendar-event/hispanic-heritage
END:VEVENT
BEGIN:VEVENT
DTSTART;VALUE=DATE:20230920
DTEND;VALUE=DATE:20230921
DTSTAMP:20260419T215054
CREATED:20230715T132532Z
LAST-MODIFIED:20230715T132532Z
UID:10000018-1695168000-1695254399@tres.littletonaz.org
SUMMARY:Early Release for Students
DESCRIPTION:
URL:https://tres.littletonaz.org/calendar-event/early-release-for-students-7
END:VEVENT
BEGIN:VEVENT
DTSTART;TZID=America/Phoenix:20230920T170000
DTEND;TZID=America/Phoenix:20230920T190000
DTSTAMP:20260419T215054
CREATED:20230920T002405Z
LAST-MODIFIED:20230920T002405Z
UID:10000092-1695229200-1695236400@tres.littletonaz.org
SUMMARY:Curriculum Night
DESCRIPTION:
URL:https://tres.littletonaz.org/calendar-event/curriculum-night
LOCATION:Cafeteria
END:VEVENT
END:VCALENDAR