BEGIN:VCALENDAR
VERSION:2.0
PRODID:-//Tres Rios Service Academy - ECPv6.15.17.1//NONSGML v1.0//EN
CALSCALE:GREGORIAN
METHOD:PUBLISH
X-WR-CALNAME:Tres Rios Service Academy
X-ORIGINAL-URL:https://tres.littletonaz.org
X-WR-CALDESC:Events for Tres Rios Service Academy
REFRESH-INTERVAL;VALUE=DURATION:PT1H
X-Robots-Tag:noindex
X-PUBLISHED-TTL:PT1H
BEGIN:VTIMEZONE
TZID:America/Phoenix
BEGIN:STANDARD
TZOFFSETFROM:-0700
TZOFFSETTO:-0700
TZNAME:MST
DTSTART:20250101T000000
END:STANDARD
END:VTIMEZONE
BEGIN:VEVENT
DTSTART;VALUE=DATE:20260413
DTEND;VALUE=DATE:20260414
DTSTAMP:20260420T175735
CREATED:20260227T212651Z
LAST-MODIFIED:20260227T212651Z
UID:10000384-1776038400-1776124799@tres.littletonaz.org
SUMMARY:AASA - ELA Part 1
DESCRIPTION:
URL:https://tres.littletonaz.org/calendar-event/aasa-ela-part-1
END:VEVENT
BEGIN:VEVENT
DTSTART;TZID=America/Phoenix:20260413T173000
DTEND;TZID=America/Phoenix:20260413T183000
DTSTAMP:20260420T175735
CREATED:20260409T155925Z
LAST-MODIFIED:20260409T155925Z
UID:10000401-1776101400-1776105000@tres.littletonaz.org
SUMMARY:8th Grade Mandatory Parent Meeting
DESCRIPTION:
URL:https://tres.littletonaz.org/calendar-event/8th-grade-mandatory-parent-meeting
END:VEVENT
END:VCALENDAR