BEGIN:VCALENDAR
VERSION:2.0
PRODID:-//Tres Rios Service Academy - ECPv6.15.17.1//NONSGML v1.0//EN
CALSCALE:GREGORIAN
METHOD:PUBLISH
X-WR-CALNAME:Tres Rios Service Academy
X-ORIGINAL-URL:https://tres.littletonaz.org
X-WR-CALDESC:Events for Tres Rios Service Academy
REFRESH-INTERVAL;VALUE=DURATION:PT1H
X-Robots-Tag:noindex
X-PUBLISHED-TTL:PT1H
BEGIN:VTIMEZONE
TZID:America/Phoenix
BEGIN:STANDARD
TZOFFSETFROM:-0700
TZOFFSETTO:-0700
TZNAME:MST
DTSTART:20230101T000000
END:STANDARD
END:VTIMEZONE
BEGIN:VEVENT
DTSTART;VALUE=DATE:20240101
DTEND;VALUE=DATE:20240106
DTSTAMP:20260422T164941
CREATED:20230715T132647Z
LAST-MODIFIED:20230715T132647Z
UID:10000042-1704067200-1704499199@tres.littletonaz.org
SUMMARY:Winter Break - No School
DESCRIPTION:
URL:https://tres.littletonaz.org/calendar-event/winter-break-no-school-3
END:VEVENT
BEGIN:VEVENT
DTSTART;TZID=America/Phoenix:20240109T180000
DTEND;TZID=America/Phoenix:20240109T180000
DTSTAMP:20260422T164941
CREATED:20230715T132647Z
LAST-MODIFIED:20230715T132647Z
UID:10000043-1704823200-1704823200@tres.littletonaz.org
SUMMARY:Governing Board Meeting
DESCRIPTION:
URL:https://tres.littletonaz.org/calendar-event/governing-board-meeting-10
END:VEVENT
BEGIN:VEVENT
DTSTART;VALUE=DATE:20240110
DTEND;VALUE=DATE:20240111
DTSTAMP:20260422T164941
CREATED:20230715T132647Z
LAST-MODIFIED:20230715T132647Z
UID:10000044-1704844800-1704931199@tres.littletonaz.org
SUMMARY:Early Release for Students
DESCRIPTION:
URL:https://tres.littletonaz.org/calendar-event/early-release-for-students-18
END:VEVENT
BEGIN:VEVENT
DTSTART;TZID=America/Phoenix:20240110T073000
DTEND;TZID=America/Phoenix:20240110T140000
DTSTAMP:20260422T164941
CREATED:20230715T132648Z
LAST-MODIFIED:20230715T132648Z
UID:10000045-1704871800-1704895200@tres.littletonaz.org
SUMMARY:Child Find Screenings
DESCRIPTION:
URL:https://tres.littletonaz.org/calendar-event/child-find-screenings-5
END:VEVENT
BEGIN:VEVENT
DTSTART;VALUE=DATE:20240112
DTEND;VALUE=DATE:20240113
DTSTAMP:20260422T164941
CREATED:20230715T132701Z
LAST-MODIFIED:20230715T132701Z
UID:10000046-1705017600-1705103999@tres.littletonaz.org
SUMMARY:Staff In-Service - No School
DESCRIPTION:
URL:https://tres.littletonaz.org/calendar-event/staff-in-service-no-school-2
END:VEVENT
BEGIN:VEVENT
DTSTART;VALUE=DATE:20240115
DTEND;VALUE=DATE:20240116
DTSTAMP:20260422T164941
CREATED:20230715T132702Z
LAST-MODIFIED:20230715T132702Z
UID:10000047-1705276800-1705363199@tres.littletonaz.org
SUMMARY:Martin Luther King\, Jr. Day - No School
DESCRIPTION:
URL:https://tres.littletonaz.org/calendar-event/martin-luther-king-jr-day-no-school
END:VEVENT
BEGIN:VEVENT
DTSTART;VALUE=DATE:20240117
DTEND;VALUE=DATE:20240118
DTSTAMP:20260422T164941
CREATED:20230715T132702Z
LAST-MODIFIED:20230715T132702Z
UID:10000048-1705449600-1705535999@tres.littletonaz.org
SUMMARY:Early Release for Students
DESCRIPTION:
URL:https://tres.littletonaz.org/calendar-event/early-release-for-students-19
END:VEVENT
BEGIN:VEVENT
DTSTART;TZID=America/Phoenix:20240123T180000
DTEND;TZID=America/Phoenix:20240123T180000
DTSTAMP:20260422T164941
CREATED:20230715T132702Z
LAST-MODIFIED:20230715T132702Z
UID:10000049-1706032800-1706032800@tres.littletonaz.org
SUMMARY:Governing Board Meeting
DESCRIPTION:
URL:https://tres.littletonaz.org/calendar-event/governing-board-meeting-11
END:VEVENT
BEGIN:VEVENT
DTSTART;VALUE=DATE:20240124
DTEND;VALUE=DATE:20240125
DTSTAMP:20260422T164941
CREATED:20230715T132703Z
LAST-MODIFIED:20230715T132703Z
UID:10000050-1706054400-1706140799@tres.littletonaz.org
SUMMARY:Early Release for Students
DESCRIPTION:
URL:https://tres.littletonaz.org/calendar-event/early-release-for-students-20
END:VEVENT
BEGIN:VEVENT
DTSTART;VALUE=DATE:20240131
DTEND;VALUE=DATE:20240201
DTSTAMP:20260422T164941
CREATED:20230715T132716Z
LAST-MODIFIED:20230715T132716Z
UID:10000051-1706659200-1706745599@tres.littletonaz.org
SUMMARY:Early Release for Students
DESCRIPTION:
URL:https://tres.littletonaz.org/calendar-event/early-release-for-students-21
END:VEVENT
END:VCALENDAR