BEGIN:VCALENDAR
VERSION:2.0
PRODID:-//Tres Rios Service Academy - ECPv6.15.17.1//NONSGML v1.0//EN
CALSCALE:GREGORIAN
METHOD:PUBLISH
X-ORIGINAL-URL:https://tres.littletonaz.org
X-WR-CALDESC:Events for Tres Rios Service Academy
REFRESH-INTERVAL;VALUE=DURATION:PT1H
X-Robots-Tag:noindex
X-PUBLISHED-TTL:PT1H
BEGIN:VTIMEZONE
TZID:America/Phoenix
BEGIN:STANDARD
TZOFFSETFROM:-0700
TZOFFSETTO:-0700
TZNAME:MST
DTSTART:20240101T000000
END:STANDARD
END:VTIMEZONE
BEGIN:VEVENT
DTSTART;VALUE=DATE:20251222
DTEND;VALUE=DATE:20260103
DTSTAMP:20260420T090049
CREATED:20251030T033244Z
LAST-MODIFIED:20251202T025539Z
UID:10000294-1766361600-1767398399@tres.littletonaz.org
SUMMARY:Winter Break - No School/Offices Closed
DESCRIPTION:
URL:https://tres.littletonaz.org/calendar-event/winter-break-no-school-offices-closed
END:VEVENT
BEGIN:VEVENT
DTSTART;VALUE=DATE:20260105
DTEND;VALUE=DATE:20260106
DTSTAMP:20260420T090049
CREATED:20251202T025737Z
LAST-MODIFIED:20251202T025737Z
UID:10000301-1767571200-1767657599@tres.littletonaz.org
SUMMARY:Staff In-Service - No School
DESCRIPTION:
URL:https://tres.littletonaz.org/calendar-event/staff-in-service-no-school-3
END:VEVENT
BEGIN:VEVENT
DTSTART;VALUE=DATE:20260109
DTEND;VALUE=DATE:20260110
DTSTAMP:20260420T090049
CREATED:20251202T030158Z
LAST-MODIFIED:20251202T030654Z
UID:10000304-1767916800-1768003199@tres.littletonaz.org
SUMMARY:Q2 Assembly (Invite Only - Times Vary)
DESCRIPTION:
URL:https://tres.littletonaz.org/calendar-event/q2-assembly-invite-only-times-vary
LOCATION:Cafe
END:VEVENT
BEGIN:VEVENT
DTSTART;TZID=America/Phoenix:20260113T163000
DTEND;TZID=America/Phoenix:20260113T173000
DTSTAMP:20260420T090049
CREATED:20251202T030305Z
LAST-MODIFIED:20251202T030305Z
UID:10000305-1768321800-1768325400@tres.littletonaz.org
SUMMARY:Cafecito with Principal
DESCRIPTION:
URL:https://tres.littletonaz.org/calendar-event/cafecito-with-principal-6
LOCATION:Library
END:VEVENT
BEGIN:VEVENT
DTSTART;TZID=America/Phoenix:20260113T180000
DTEND;TZID=America/Phoenix:20260113T200000
DTSTAMP:20260420T090049
CREATED:20250612T055953Z
LAST-MODIFIED:20251202T025911Z
UID:10000263-1768327200-1768334400@tres.littletonaz.org
SUMMARY:Governing Board Meeting
DESCRIPTION:YouTube Live Stream
URL:https://tres.littletonaz.org/calendar-event/governing-board-meeting-30
END:VEVENT
BEGIN:VEVENT
DTSTART;VALUE=DATE:20260119
DTEND;VALUE=DATE:20260120
DTSTAMP:20260420T090049
CREATED:20251202T030006Z
LAST-MODIFIED:20251202T030006Z
UID:10000302-1768780800-1768867199@tres.littletonaz.org
SUMMARY:Martin Luther King\, Jr. Day - No School\, Offices Closed
DESCRIPTION:
URL:https://tres.littletonaz.org/calendar-event/martin-luther-king-jr-day-no-school-offices-closed
END:VEVENT
BEGIN:VEVENT
DTSTART;TZID=America/Phoenix:20260126T163000
DTEND;TZID=America/Phoenix:20260126T190000
DTSTAMP:20260420T090049
CREATED:20251202T030102Z
LAST-MODIFIED:20251202T030102Z
UID:10000303-1769445000-1769454000@tres.littletonaz.org
SUMMARY:School Choice Night
DESCRIPTION:
URL:https://tres.littletonaz.org/calendar-event/school-choice-night
END:VEVENT
BEGIN:VEVENT
DTSTART;TZID=America/Phoenix:20260127T180000
DTEND;TZID=America/Phoenix:20260127T180000
DTSTAMP:20260420T090049
CREATED:20250612T055953Z
LAST-MODIFIED:20250612T055953Z
UID:10000264-1769536800-1769536800@tres.littletonaz.org
SUMMARY:Special Board Meeting
DESCRIPTION:
URL:https://tres.littletonaz.org/calendar-event/special-board-meeting-2
END:VEVENT
BEGIN:VEVENT
DTSTART;VALUE=DATE:20260130
DTEND;VALUE=DATE:20260131
DTSTAMP:20260420T090049
CREATED:20251202T030354Z
LAST-MODIFIED:20251202T030354Z
UID:10000306-1769731200-1769817599@tres.littletonaz.org
SUMMARY:Dollar Dress Down
DESCRIPTION:
URL:https://tres.littletonaz.org/calendar-event/dollar-dress-down-14
END:VEVENT
END:VCALENDAR