BEGIN:VCALENDAR
VERSION:2.0
PRODID:-//Tres Rios Service Academy - ECPv6.15.17.1//NONSGML v1.0//EN
CALSCALE:GREGORIAN
METHOD:PUBLISH
X-WR-CALNAME:Tres Rios Service Academy
X-ORIGINAL-URL:https://tres.littletonaz.org
X-WR-CALDESC:Events for Tres Rios Service Academy
REFRESH-INTERVAL;VALUE=DURATION:PT1H
X-Robots-Tag:noindex
X-PUBLISHED-TTL:PT1H
BEGIN:VTIMEZONE
TZID:America/Phoenix
BEGIN:STANDARD
TZOFFSETFROM:-0700
TZOFFSETTO:-0700
TZNAME:MST
DTSTART:20230101T000000
END:STANDARD
END:VTIMEZONE
BEGIN:VEVENT
DTSTART;VALUE=DATE:20240925
DTEND;VALUE=DATE:20240928
DTSTAMP:20260423T131041
CREATED:20240911T222859Z
LAST-MODIFIED:20240911T222859Z
UID:10000111-1727222400-1727481599@tres.littletonaz.org
SUMMARY:Book Fair
DESCRIPTION:
URL:https://tres.littletonaz.org/calendar-event/book-fair
LOCATION:Library
END:VEVENT
BEGIN:VEVENT
DTSTART;TZID=America/Phoenix:20240906T073000
DTEND;TZID=America/Phoenix:20240906T073000
DTSTAMP:20260423T131041
CREATED:20240911T222644Z
LAST-MODIFIED:20240911T222644Z
UID:10000108-1725607800-1725607800@tres.littletonaz.org
SUMMARY:Cafecito with the Principal
DESCRIPTION:
URL:https://tres.littletonaz.org/calendar-event/cafecito-with-the-principal
LOCATION:Library
END:VEVENT
END:VCALENDAR